Package: PathNet Version: 1.48.0 Command: /Library/Frameworks/R.framework/Resources/bin/R CMD build --keep-empty-dirs --no-resave-data PathNet StartedAt: 2025-10-06 21:23:40 -0400 (Mon, 06 Oct 2025) EndedAt: 2025-10-06 21:25:52 -0400 (Mon, 06 Oct 2025) EllapsedTime: 132.0 seconds RetCode: 0 Status: OK PackageFile: PathNet_1.48.0.tar.gz PackageFileSize: 823.1 KiB