Package: PathNet Version: 1.48.0 Command: rm -rf PathNet.buildbin-libdir && mkdir PathNet.buildbin-libdir && /Users/biocbuild/BBS/utils/build-universal.sh PathNet_1.48.0.tar.gz /Library/Frameworks/R.framework/Resources/bin/R PathNet.buildbin-libdir StartedAt: 2025-10-07 14:04:52 -0400 (Tue, 07 Oct 2025) EndedAt: 2025-10-07 14:04:59 -0400 (Tue, 07 Oct 2025) EllapsedTime: 6.4 seconds RetCode: 0 Status: OK PackageFile: PathNet_1.48.0.tgz PackageFileSize: 328.5 KiB