Package: Path2PPI Version: 1.40.0 Command: /home/biocbuild/bbs-3.22-bioc/R/bin/R CMD INSTALL Path2PPI StartedAt: 2025-11-11 15:10:49 -0500 (Tue, 11 Nov 2025) EndedAt: 2025-11-11 15:11:19 -0500 (Tue, 11 Nov 2025) EllapsedTime: 30.1 seconds RetCode: 0 Status: OK