Package: Path2PPI Version: 1.38.0 Command: /home/biocbuild/bbs-3.21-bioc/R/bin/R CMD INSTALL Path2PPI StartedAt: 2025-09-28 15:21:31 -0400 (Sun, 28 Sep 2025) EndedAt: 2025-09-28 15:21:59 -0400 (Sun, 28 Sep 2025) EllapsedTime: 28.0 seconds RetCode: 0 Status: OK