Package: PanomiR Version: 1.14.0 Command: /home/biocbuild/bbs-3.22-bioc/R/bin/R CMD build --keep-empty-dirs --no-resave-data --md5 PanomiR StartedAt: 2025-11-25 19:42:45 -0500 (Tue, 25 Nov 2025) EndedAt: 2025-11-25 19:43:15 -0500 (Tue, 25 Nov 2025) EllapsedTime: 30.1 seconds RetCode: 0 Status: OK PackageFile: PanomiR_1.14.0.tar.gz PackageFileSize: 1.982 MiB