Package: PWMEnrich Version: 4.46.0 Command: /home/biocbuild/R/R/bin/R CMD INSTALL PWMEnrich StartedAt: 2025-11-17 21:29:31 -0000 (Mon, 17 Nov 2025) EndedAt: 2025-11-17 21:29:48 -0000 (Mon, 17 Nov 2025) EllapsedTime: 17.5 seconds RetCode: 0 Status: OK