Package: PWMEnrich Version: 4.46.0 Command: /home/biocbuild/bbs-3.22-bioc/R/bin/R CMD INSTALL PWMEnrich StartedAt: 2025-11-11 15:27:05 -0500 (Tue, 11 Nov 2025) EndedAt: 2025-11-11 15:27:18 -0500 (Tue, 11 Nov 2025) EllapsedTime: 12.5 seconds RetCode: 0 Status: OK