Package: PWMEnrich Version: 4.46.0 Command: /home/biocbuild/bbs-3.22-bioc/R/bin/R CMD check --install=check:PWMEnrich.install-out.txt --library=/home/biocbuild/bbs-3.22-bioc/R/site-library --timings PWMEnrich_4.46.0.tar.gz StartedAt: 2025-11-14 03:03:54 -0500 (Fri, 14 Nov 2025) EndedAt: 2025-11-14 03:06:29 -0500 (Fri, 14 Nov 2025) EllapsedTime: 155.2 seconds RetCode: 0 Status: OK CheckDir: PWMEnrich.Rcheck Warnings: 0