Package: PWMEnrich Version: 4.46.0 Command: /home/biocbuild/bbs-3.22-bioc/R/bin/R CMD build --keep-empty-dirs --no-resave-data --md5 PWMEnrich StartedAt: 2025-11-11 19:32:55 -0500 (Tue, 11 Nov 2025) EndedAt: 2025-11-11 19:34:04 -0500 (Tue, 11 Nov 2025) EllapsedTime: 68.1 seconds RetCode: 0 Status: OK PackageFile: PWMEnrich_4.46.0.tar.gz PackageFileSize: 1.574 MiB