Package: PWMEnrich Version: 4.44.0 Command: /home/biocbuild/bbs-3.21-bioc/R/bin/R CMD INSTALL PWMEnrich StartedAt: 2025-10-15 15:22:02 -0400 (Wed, 15 Oct 2025) EndedAt: 2025-10-15 15:22:15 -0400 (Wed, 15 Oct 2025) EllapsedTime: 12.8 seconds RetCode: 0 Status: OK