Package: PWMEnrich Version: 4.44.0 Command: /home/biocbuild/bbs-3.21-bioc/R/bin/R CMD build --keep-empty-dirs --no-resave-data PWMEnrich StartedAt: 2025-10-15 19:16:46 -0400 (Wed, 15 Oct 2025) EndedAt: 2025-10-15 19:17:54 -0400 (Wed, 15 Oct 2025) EllapsedTime: 68.1 seconds RetCode: 0 Status: OK PackageFile: PWMEnrich_4.44.0.tar.gz PackageFileSize: 1.571 MiB