Package: PWMEnrich Version: 4.44.0 Command: /home/biocbuild/R/R/bin/R CMD INSTALL PWMEnrich StartedAt: 2025-09-25 20:30:29 -0000 (Thu, 25 Sep 2025) EndedAt: 2025-09-25 20:30:47 -0000 (Thu, 25 Sep 2025) EllapsedTime: 18.2 seconds RetCode: 0 Status: OK