Package: PWMEnrich Version: 4.44.0 Command: /home/biocbuild/R/R/bin/R CMD build --keep-empty-dirs --no-resave-data PWMEnrich StartedAt: 2025-09-26 05:02:39 -0000 (Fri, 26 Sep 2025) EndedAt: 2025-09-26 05:04:23 -0000 (Fri, 26 Sep 2025) EllapsedTime: 104.0 seconds RetCode: 0 Status: OK PackageFile: PWMEnrich_4.44.0.tar.gz PackageFileSize: 1.561 MiB