Package: PWMEnrich Version: 4.44.0 Command: /Library/Frameworks/R.framework/Resources/bin/R CMD INSTALL PWMEnrich StartedAt: 2025-10-13 15:45:36 -0400 (Mon, 13 Oct 2025) EndedAt: 2025-10-13 15:45:51 -0400 (Mon, 13 Oct 2025) EllapsedTime: 14.9 seconds RetCode: 0 Status: OK