Package: PWMEnrich Version: 4.44.0 Command: /Library/Frameworks/R.framework/Resources/bin/R CMD build --keep-empty-dirs --no-resave-data PWMEnrich StartedAt: 2025-10-14 07:03:15 -0400 (Tue, 14 Oct 2025) EndedAt: 2025-10-14 07:04:40 -0400 (Tue, 14 Oct 2025) EllapsedTime: 84.9 seconds RetCode: 0 Status: OK PackageFile: PWMEnrich_4.44.0.tar.gz PackageFileSize: 1.571 MiB