Package: PWMEnrich Version: 4.44.0 Command: rm -rf PWMEnrich.buildbin-libdir && mkdir PWMEnrich.buildbin-libdir && /Users/biocbuild/BBS/utils/build-universal.sh PWMEnrich_4.44.0.tar.gz /Library/Frameworks/R.framework/Resources/bin/R PWMEnrich.buildbin-libdir StartedAt: 2025-10-15 19:54:18 -0400 (Wed, 15 Oct 2025) EndedAt: 2025-10-15 19:54:36 -0400 (Wed, 15 Oct 2025) EllapsedTime: 18.1 seconds RetCode: 0 Status: OK PackageFile: PWMEnrich_4.44.0.tgz PackageFileSize: 1.99 MiB