Package: PSMatch Version: 1.14.0 Command: /home/biocbuild/bbs-3.22-bioc/R/bin/R CMD INSTALL PSMatch StartedAt: 2025-11-11 15:39:28 -0500 (Tue, 11 Nov 2025) EndedAt: 2025-11-11 15:39:58 -0500 (Tue, 11 Nov 2025) EllapsedTime: 30.4 seconds RetCode: 0 Status: OK