Package: PSMatch Version: 1.14.0 Command: /home/biocbuild/bbs-3.22-bioc/R/bin/R CMD check --install=check:PSMatch.install-out.txt --library=/home/biocbuild/bbs-3.22-bioc/R/site-library --timings PSMatch_1.14.0.tar.gz StartedAt: 2025-11-15 03:14:41 -0500 (Sat, 15 Nov 2025) EndedAt: 2025-11-15 03:20:45 -0500 (Sat, 15 Nov 2025) EllapsedTime: 364.3 seconds RetCode: 0 Status: OK CheckDir: PSMatch.Rcheck Warnings: 0