Package: PSMatch Version: 1.14.0 Command: /home/biocbuild/bbs-3.22-bioc/R/bin/R CMD build --keep-empty-dirs --no-resave-data --md5 PSMatch StartedAt: 2025-11-11 19:31:43 -0500 (Tue, 11 Nov 2025) EndedAt: 2025-11-11 19:33:31 -0500 (Tue, 11 Nov 2025) EllapsedTime: 107.1 seconds RetCode: 0 Status: OK PackageFile: PSMatch_1.14.0.tar.gz PackageFileSize: 1.741 MiB