Package: PSMatch Version: 1.14.0 Command: /Library/Frameworks/R.framework/Resources/bin/R CMD INSTALL PSMatch StartedAt: 2025-11-03 15:26:59 -0500 (Mon, 03 Nov 2025) EndedAt: 2025-11-03 15:27:40 -0500 (Mon, 03 Nov 2025) EllapsedTime: 40.5 seconds RetCode: 0 Status: OK