Package: PSMatch Version: 1.14.0 Command: /Library/Frameworks/R.framework/Resources/bin/R CMD build --keep-empty-dirs --no-resave-data PSMatch StartedAt: 2025-11-03 18:19:16 -0500 (Mon, 03 Nov 2025) EndedAt: 2025-11-03 18:21:12 -0500 (Mon, 03 Nov 2025) EllapsedTime: 116.4 seconds RetCode: 0 Status: OK PackageFile: PSMatch_1.14.0.tar.gz PackageFileSize: 1.76 MiB