Package: PSMatch Version: 1.14.0 Command: rm -rf PSMatch.buildbin-libdir && mkdir PSMatch.buildbin-libdir && /Users/biocbuild/BBS/utils/build-universal.sh PSMatch_1.14.0.tar.gz /Library/Frameworks/R.framework/Resources/bin/R PSMatch.buildbin-libdir StartedAt: 2025-11-04 01:57:04 -0500 (Tue, 04 Nov 2025) EndedAt: 2025-11-04 01:57:51 -0500 (Tue, 04 Nov 2025) EllapsedTime: 47.3 seconds RetCode: 0 Status: OK PackageFile: PSMatch_1.14.0.tgz PackageFileSize: 2.092 MiB