Package: PSMatch Version: 1.12.0 Command: /home/biocbuild/R/R/bin/R CMD INSTALL PSMatch StartedAt: 2025-10-06 20:50:03 -0000 (Mon, 06 Oct 2025) EndedAt: 2025-10-06 20:50:48 -0000 (Mon, 06 Oct 2025) EllapsedTime: 44.7 seconds RetCode: 0 Status: OK