Package: PSMatch Version: 1.12.0 Command: /home/biocbuild/R/R/bin/R CMD build --keep-empty-dirs --no-resave-data PSMatch StartedAt: 2025-10-07 03:43:32 -0000 (Tue, 07 Oct 2025) EndedAt: 2025-10-07 03:45:41 -0000 (Tue, 07 Oct 2025) EllapsedTime: 129.0 seconds RetCode: 0 Status: OK PackageFile: PSMatch_1.12.0.tar.gz PackageFileSize: 1.566 MiB