Package: PROcess Version: 1.86.0 Command: /home/biocbuild/bbs-3.22-bioc/R/bin/R CMD INSTALL PROcess StartedAt: 2025-11-14 15:16:12 -0500 (Fri, 14 Nov 2025) EndedAt: 2025-11-14 15:16:17 -0500 (Fri, 14 Nov 2025) EllapsedTime: 5.6 seconds RetCode: 0 Status: OK