Package: PROcess Version: 1.86.0 Command: /Library/Frameworks/R.framework/Resources/bin/R CMD build --keep-empty-dirs --no-resave-data PROcess StartedAt: 2025-11-03 18:17:55 -0500 (Mon, 03 Nov 2025) EndedAt: 2025-11-03 18:18:16 -0500 (Mon, 03 Nov 2025) EllapsedTime: 20.5 seconds RetCode: 0 Status: OK PackageFile: PROcess_1.86.0.tar.gz PackageFileSize: 1.999 MiB