Package: PROcess Version: 1.84.0 Command: /home/biocbuild/R/R/bin/R CMD INSTALL PROcess StartedAt: 2025-10-13 20:26:07 -0000 (Mon, 13 Oct 2025) EndedAt: 2025-10-13 20:26:14 -0000 (Mon, 13 Oct 2025) EllapsedTime: 7.2 seconds RetCode: 0 Status: OK