Package: PROPS Version: 1.32.0 Command: /home/biocbuild/bbs-3.22-bioc/R/bin/R CMD INSTALL PROPS StartedAt: 2025-11-11 15:33:43 -0500 (Tue, 11 Nov 2025) EndedAt: 2025-11-11 15:34:02 -0500 (Tue, 11 Nov 2025) EllapsedTime: 18.6 seconds RetCode: 0 Status: OK