Package: PROPS Version: 1.32.0 Command: /home/biocbuild/bbs-3.22-bioc/R/bin/R CMD build --keep-empty-dirs --no-resave-data --md5 PROPS StartedAt: 2025-11-11 19:30:33 -0500 (Tue, 11 Nov 2025) EndedAt: 2025-11-11 19:33:18 -0500 (Tue, 11 Nov 2025) EllapsedTime: 165.1 seconds RetCode: 0 Status: OK PackageFile: PROPS_1.32.0.tar.gz PackageFileSize: 3.586 MiB