Package: PROPS Version: 1.32.0 Command: /Library/Frameworks/R.framework/Resources/bin/R CMD INSTALL PROPS StartedAt: 2025-11-10 15:09:54 -0500 (Mon, 10 Nov 2025) EndedAt: 2025-11-10 15:10:02 -0500 (Mon, 10 Nov 2025) EllapsedTime: 8.5 seconds RetCode: 0 Status: OK