Package: PROPER Version: 1.42.0 Command: /home/biocbuild/bbs-3.22-bioc/R/bin/R CMD check --install=check:PROPER.install-out.txt --library=/home/biocbuild/bbs-3.22-bioc/R/site-library --timings PROPER_1.42.0.tar.gz StartedAt: 2025-11-15 03:13:22 -0500 (Sat, 15 Nov 2025) EndedAt: 2025-11-15 03:14:01 -0500 (Sat, 15 Nov 2025) EllapsedTime: 39.0 seconds RetCode: 0 Status: WARNINGS CheckDir: PROPER.Rcheck Warnings: 2