Package: PROPER Version: 1.42.0 Command: /home/biocbuild/bbs-3.22-bioc/R/bin/R CMD build --keep-empty-dirs --no-resave-data --md5 PROPER StartedAt: 2025-11-11 19:30:25 -0500 (Tue, 11 Nov 2025) EndedAt: 2025-11-11 19:30:33 -0500 (Tue, 11 Nov 2025) EllapsedTime: 8.0 seconds RetCode: 0 Status: OK PackageFile: PROPER_1.42.0.tar.gz PackageFileSize: 1.801 MiB