Package: PROPER Version: 1.42.0 Command: /Library/Frameworks/R.framework/Resources/bin/R CMD build --keep-empty-dirs --no-resave-data PROPER StartedAt: 2025-11-03 18:18:46 -0500 (Mon, 03 Nov 2025) EndedAt: 2025-11-03 18:19:01 -0500 (Mon, 03 Nov 2025) EllapsedTime: 14.8 seconds RetCode: 0 Status: OK PackageFile: PROPER_1.42.0.tar.gz PackageFileSize: 1.8 MiB