Package: PROPER Version: 1.42.0 Command: rm -rf PROPER.buildbin-libdir && mkdir PROPER.buildbin-libdir && /Users/biocbuild/BBS/utils/build-universal.sh PROPER_1.42.0.tar.gz /Library/Frameworks/R.framework/Resources/bin/R PROPER.buildbin-libdir StartedAt: 2025-11-04 01:56:59 -0500 (Tue, 04 Nov 2025) EndedAt: 2025-11-04 01:57:06 -0500 (Tue, 04 Nov 2025) EllapsedTime: 7.0 seconds RetCode: 0 Status: OK PackageFile: PROPER_1.42.0.tgz PackageFileSize: 1.574 MiB