Package: PRONE Version: 1.4.0 Command: /home/biocbuild/bbs-3.22-bioc/R/bin/R CMD INSTALL PRONE StartedAt: 2025-11-11 16:04:02 -0500 (Tue, 11 Nov 2025) EndedAt: 2025-11-11 16:04:43 -0500 (Tue, 11 Nov 2025) EllapsedTime: 40.9 seconds RetCode: 0 Status: OK