Package: PRONE Version: 1.4.0 Command: /home/biocbuild/bbs-3.22-bioc/R/bin/R CMD build --keep-empty-dirs --no-resave-data --md5 PRONE StartedAt: 2025-11-11 19:30:15 -0500 (Tue, 11 Nov 2025) EndedAt: 2025-11-11 19:32:13 -0500 (Tue, 11 Nov 2025) EllapsedTime: 118.1 seconds RetCode: 0 Status: OK PackageFile: PRONE_1.4.0.tar.gz PackageFileSize: 9.066 MiB