Package: PRONE Version: 1.4.0 Command: /Library/Frameworks/R.framework/Resources/bin/R CMD INSTALL PRONE StartedAt: 2025-11-10 15:31:25 -0500 (Mon, 10 Nov 2025) EndedAt: 2025-11-10 15:31:42 -0500 (Mon, 10 Nov 2025) EllapsedTime: 16.6 seconds RetCode: 0 Status: OK