Package: PRONE Version: 1.4.0 Command: /Library/Frameworks/R.framework/Resources/bin/R CMD build --keep-empty-dirs --no-resave-data PRONE StartedAt: 2025-11-10 17:24:21 -0500 (Mon, 10 Nov 2025) EndedAt: 2025-11-10 17:25:09 -0500 (Mon, 10 Nov 2025) EllapsedTime: 47.6 seconds RetCode: 0 Status: OK PackageFile: PRONE_1.4.0.tar.gz PackageFileSize: 10.05 MiB