Package: PROMISE Version: 1.62.0 Command: /home/biocbuild/bbs-3.22-bioc/R/bin/R CMD check --install=check:PROMISE.install-out.txt --library=/home/biocbuild/bbs-3.22-bioc/R/site-library --timings PROMISE_1.62.0.tar.gz StartedAt: 2025-11-12 02:58:12 -0500 (Wed, 12 Nov 2025) EndedAt: 2025-11-12 03:00:17 -0500 (Wed, 12 Nov 2025) EllapsedTime: 125.1 seconds RetCode: 0 Status: OK CheckDir: PROMISE.Rcheck Warnings: 0