Package: PROMISE Version: 1.60.0 Command: /home/biocbuild/bbs-3.21-bioc/R/bin/R CMD INSTALL PROMISE StartedAt: 2025-10-15 15:28:50 -0400 (Wed, 15 Oct 2025) EndedAt: 2025-10-15 15:29:04 -0400 (Wed, 15 Oct 2025) EllapsedTime: 14.1 seconds RetCode: 0 Status: OK