Package: PROMISE Version: 1.60.0 Command: /home/biocbuild/bbs-3.21-bioc/R/bin/R CMD build --keep-empty-dirs --no-resave-data PROMISE StartedAt: 2025-10-15 19:14:26 -0400 (Wed, 15 Oct 2025) EndedAt: 2025-10-15 19:14:49 -0400 (Wed, 15 Oct 2025) EllapsedTime: 23.0 seconds RetCode: 0 Status: OK PackageFile: PROMISE_1.60.0.tar.gz PackageFileSize: 135.3 KiB