Package: PROMISE Version: 1.60.0 Command: /Library/Frameworks/R.framework/Resources/bin/R CMD INSTALL PROMISE StartedAt: 2025-10-13 15:52:25 -0400 (Mon, 13 Oct 2025) EndedAt: 2025-10-13 15:52:42 -0400 (Mon, 13 Oct 2025) EllapsedTime: 16.3 seconds RetCode: 0 Status: OK