Package: PROMISE Version: 1.60.0 Command: /Library/Frameworks/R.framework/Resources/bin/R CMD build --keep-empty-dirs --no-resave-data PROMISE StartedAt: 2025-10-14 06:57:11 -0400 (Tue, 14 Oct 2025) EndedAt: 2025-10-14 06:57:44 -0400 (Tue, 14 Oct 2025) EllapsedTime: 33.1 seconds RetCode: 0 Status: OK PackageFile: PROMISE_1.60.0.tar.gz PackageFileSize: 135.3 KiB