Package: PROMISE Version: 1.60.0 Command: rm -rf PROMISE.buildbin-libdir && mkdir PROMISE.buildbin-libdir && /Users/biocbuild/BBS/utils/build-universal.sh PROMISE_1.60.0.tar.gz /Library/Frameworks/R.framework/Resources/bin/R PROMISE.buildbin-libdir StartedAt: 2025-10-15 19:52:11 -0400 (Wed, 15 Oct 2025) EndedAt: 2025-10-15 19:52:30 -0400 (Wed, 15 Oct 2025) EllapsedTime: 19.4 seconds RetCode: 0 Status: OK PackageFile: PROMISE_1.60.0.tgz PackageFileSize: 177.8 KiB