Package: PREDA Version: 1.56.0 Command: /home/biocbuild/bbs-3.22-bioc/R/bin/R CMD check --install=check:PREDA.install-out.txt --library=/home/biocbuild/bbs-3.22-bioc/R/site-library --timings PREDA_1.56.0.tar.gz StartedAt: 2025-11-14 02:55:51 -0500 (Fri, 14 Nov 2025) EndedAt: 2025-11-14 02:59:13 -0500 (Fri, 14 Nov 2025) EllapsedTime: 202.1 seconds RetCode: 0 Status: WARNINGS CheckDir: PREDA.Rcheck Warnings: 1