Package: PREDA Version: 1.56.0 Command: /home/biocbuild/bbs-3.22-bioc/R/bin/R CMD build --keep-empty-dirs --no-resave-data --md5 PREDA StartedAt: 2025-11-11 19:28:23 -0500 (Tue, 11 Nov 2025) EndedAt: 2025-11-11 19:30:11 -0500 (Tue, 11 Nov 2025) EllapsedTime: 108.1 seconds RetCode: 0 Status: OK PackageFile: PREDA_1.56.0.tar.gz PackageFileSize: 2.008 MiB