Package: PREDA Version: 1.56.0 Command: /Library/Frameworks/R.framework/Resources/bin/R CMD build --keep-empty-dirs --no-resave-data PREDA StartedAt: 2025-11-03 18:17:17 -0500 (Mon, 03 Nov 2025) EndedAt: 2025-11-03 18:19:26 -0500 (Mon, 03 Nov 2025) EllapsedTime: 128.8 seconds RetCode: 0 Status: OK PackageFile: PREDA_1.56.0.tar.gz PackageFileSize: 2.003 MiB