Package: PREDA Version: 1.54.0 Command: /home/biocbuild/R/R/bin/R CMD INSTALL PREDA StartedAt: 2025-10-06 20:39:59 -0000 (Mon, 06 Oct 2025) EndedAt: 2025-10-06 20:40:28 -0000 (Mon, 06 Oct 2025) EllapsedTime: 29.1 seconds RetCode: 0 Status: OK