Package: PREDA Version: 1.54.0 Command: /home/biocbuild/R/R/bin/R CMD build --keep-empty-dirs --no-resave-data PREDA StartedAt: 2025-10-07 03:40:01 -0000 (Tue, 07 Oct 2025) EndedAt: 2025-10-07 03:43:02 -0000 (Tue, 07 Oct 2025) EllapsedTime: 181.1 seconds RetCode: 0 Status: OK PackageFile: PREDA_1.54.0.tar.gz PackageFileSize: 1.991 MiB