Package: PREDA Version: 1.54.0 Command: /Library/Frameworks/R.framework/Resources/bin/R CMD build --keep-empty-dirs --no-resave-data PREDA StartedAt: 2025-04-21 17:18:32 -0400 (Mon, 21 Apr 2025) EndedAt: 2025-04-21 17:19:28 -0400 (Mon, 21 Apr 2025) EllapsedTime: 55.6 seconds RetCode: 0 Status: OK PackageFile: PREDA_1.54.0.tar.gz PackageFileSize: 2.004 MiB